Package: PathoStat Version: 1.32.0 Command: chmod a+r PathoStat -R && F:\biocbuild\bbs-3.20-bioc\R\bin\R.exe CMD build --keep-empty-dirs --no-resave-data PathoStat StartedAt: 2025-02-03 21:06:28 -0500 (Mon, 03 Feb 2025) EndedAt: 2025-02-03 21:07:17 -0500 (Mon, 03 Feb 2025) EllapsedTime: 49.4 seconds RetCode: 0 Status: OK PackageFile: PathoStat_1.32.0.tar.gz PackageFileSize: 947.6 KiB