Package: PathoStat Version: 1.32.0 Command: /home/biocbuild/R/R/bin/R CMD build --keep-empty-dirs --no-resave-data PathoStat StartedAt: 2025-02-04 01:45:40 -0000 (Tue, 04 Feb 2025) EndedAt: 2025-02-04 01:46:26 -0000 (Tue, 04 Feb 2025) EllapsedTime: 46.1 seconds RetCode: 0 Status: OK PackageFile: PathoStat_1.32.0.tar.gz PackageFileSize: 948.4 KiB