Package: PathoStat Version: 1.32.0 Command: /home/biocbuild/R/R/bin/R CMD INSTALL PathoStat StartedAt: 2025-02-03 21:10:48 -0000 (Mon, 03 Feb 2025) EndedAt: 2025-02-03 21:11:32 -0000 (Mon, 03 Feb 2025) EllapsedTime: 43.6 seconds RetCode: 0 Status: OK