Package: Pedixplorer Version: 1.2.0 Command: /Library/Frameworks/R.framework/Resources/bin/R CMD build --keep-empty-dirs --no-resave-data Pedixplorer StartedAt: 2025-01-31 05:15:59 -0500 (Fri, 31 Jan 2025) EndedAt: 2025-01-31 05:17:15 -0500 (Fri, 31 Jan 2025) EllapsedTime: 75.6 seconds RetCode: 0 Status: OK PackageFile: Pedixplorer_1.2.0.tar.gz PackageFileSize: 4.482 MiB