Package: Pedixplorer Version: 1.2.0 Command: /Library/Frameworks/R.framework/Resources/bin/R CMD check --install=check:Pedixplorer.install-out.txt --library=/Library/Frameworks/R.framework/Resources/library --no-vignettes --timings Pedixplorer_1.2.0.tar.gz StartedAt: 2025-02-01 04:24:02 -0500 (Sat, 01 Feb 2025) EndedAt: 2025-02-01 04:26:54 -0500 (Sat, 01 Feb 2025) EllapsedTime: 171.3 seconds RetCode: 0 Status: OK CheckDir: Pedixplorer.Rcheck Warnings: 0