Package: Pedixplorer Version: 1.2.0 Command: /Library/Frameworks/R.framework/Resources/bin/R CMD INSTALL Pedixplorer StartedAt: 2025-01-30 16:53:02 -0500 (Thu, 30 Jan 2025) EndedAt: 2025-01-30 16:53:22 -0500 (Thu, 30 Jan 2025) EllapsedTime: 19.9 seconds RetCode: 0 Status: OK