Package: Pedixplorer Version: 1.2.0 Command: rm -rf Pedixplorer.buildbin-libdir && mkdir Pedixplorer.buildbin-libdir && F:\biocbuild\bbs-3.20-bioc\R\bin\R.exe CMD INSTALL --build --library=Pedixplorer.buildbin-libdir Pedixplorer_1.2.0.tar.gz StartedAt: 2025-01-31 09:15:49 -0500 (Fri, 31 Jan 2025) EndedAt: 2025-01-31 09:18:46 -0500 (Fri, 31 Jan 2025) EllapsedTime: 177.5 seconds RetCode: 0 Status: OK PackageFile: Pedixplorer_1.2.0.zip PackageFileSize: 3.041 MiB