Package: Pedixplorer Version: 1.2.0 Command: F:\biocbuild\bbs-3.20-bioc\R\bin\R.exe CMD check --no-multiarch --install=check:Pedixplorer.install-out.txt --library=F:\biocbuild\bbs-3.20-bioc\R\library --no-vignettes --timings Pedixplorer_1.2.0.tar.gz StartedAt: 2025-01-31 05:00:19 -0500 (Fri, 31 Jan 2025) EndedAt: 2025-01-31 05:03:43 -0500 (Fri, 31 Jan 2025) EllapsedTime: 204.2 seconds RetCode: 0 Status: OK CheckDir: Pedixplorer.Rcheck Warnings: 0