Package: Pedixplorer Version: 1.2.0 Command: F:\biocbuild\bbs-3.20-bioc\R\bin\R.exe CMD INSTALL Pedixplorer StartedAt: 2025-01-30 15:52:14 -0500 (Thu, 30 Jan 2025) EndedAt: 2025-01-30 15:54:54 -0500 (Thu, 30 Jan 2025) EllapsedTime: 160.3 seconds RetCode: 0 Status: OK