Package: Pedixplorer Version: 1.2.0 Command: /home/biocbuild/R/R/bin/R CMD build --keep-empty-dirs --no-resave-data Pedixplorer StartedAt: 2025-01-31 01:43:29 -0000 (Fri, 31 Jan 2025) EndedAt: 2025-01-31 01:45:05 -0000 (Fri, 31 Jan 2025) EllapsedTime: 96.1 seconds RetCode: 0 Status: OK PackageFile: Pedixplorer_1.2.0.tar.gz PackageFileSize: 4.001 MiB