Package: Pedixplorer Version: 1.2.0 Command: /home/biocbuild/R/R/bin/R CMD INSTALL Pedixplorer StartedAt: 2025-01-30 20:42:40 -0000 (Thu, 30 Jan 2025) EndedAt: 2025-01-30 20:43:02 -0000 (Thu, 30 Jan 2025) EllapsedTime: 21.7 seconds RetCode: 0 Status: OK