Package: PepSetTest Version: 1.0.0 Command: /Library/Frameworks/R.framework/Resources/bin/R CMD build --keep-empty-dirs --no-resave-data PepSetTest StartedAt: 2025-02-11 05:22:39 -0500 (Tue, 11 Feb 2025) EndedAt: 2025-02-11 05:23:05 -0500 (Tue, 11 Feb 2025) EllapsedTime: 26.1 seconds RetCode: 0 Status: OK PackageFile: PepSetTest_1.0.0.tar.gz PackageFileSize: 248.4 KiB