Package: PepSetTest Version: 1.0.0 Command: rm -rf PepSetTest.buildbin-libdir && mkdir PepSetTest.buildbin-libdir && /Users/biocbuild/BBS/utils/build-universal.sh PepSetTest_1.0.0.tar.gz /Library/Frameworks/R.framework/Resources/bin/R PepSetTest.buildbin-libdir StartedAt: 2025-02-04 13:45:43 -0500 (Tue, 04 Feb 2025) EndedAt: 2025-02-04 13:45:55 -0500 (Tue, 04 Feb 2025) EllapsedTime: 12.9 seconds RetCode: 0 Status: OK PackageFile: PepSetTest_1.0.0.tgz PackageFileSize: 303.1 KiB