Package: PepSetTest Version: 1.0.0 Command: /Library/Frameworks/R.framework/Resources/bin/R CMD build --keep-empty-dirs --no-resave-data PepSetTest StartedAt: 2025-02-03 21:13:51 -0500 (Mon, 03 Feb 2025) EndedAt: 2025-02-03 21:14:47 -0500 (Mon, 03 Feb 2025) EllapsedTime: 55.9 seconds RetCode: 0 Status: OK PackageFile: PepSetTest_1.0.0.tar.gz PackageFileSize: 248.3 KiB