Package: PepSetTest Version: 1.0.0 Command: /Library/Frameworks/R.framework/Resources/bin/R CMD INSTALL PepSetTest StartedAt: 2025-02-03 15:24:59 -0500 (Mon, 03 Feb 2025) EndedAt: 2025-02-03 15:25:03 -0500 (Mon, 03 Feb 2025) EllapsedTime: 4.3 seconds RetCode: 0 Status: OK