Package: PepSetTest Version: 1.0.0 Command: /home/biocbuild/bbs-3.20-bioc/R/bin/R CMD build --keep-empty-dirs --no-resave-data --md5 PepSetTest StartedAt: 2025-02-03 18:42:35 -0500 (Mon, 03 Feb 2025) EndedAt: 2025-02-03 18:42:54 -0500 (Mon, 03 Feb 2025) EllapsedTime: 19.0 seconds RetCode: 0 Status: OK PackageFile: PepSetTest_1.0.0.tar.gz PackageFileSize: 250 KiB