Package: PepSetTest Version: 1.0.0 Command: /home/biocbuild/R/R/bin/R CMD check --install=check:PepSetTest.install-out.txt --library=/home/biocbuild/R/R/site-library --no-vignettes --timings PepSetTest_1.0.0.tar.gz StartedAt: 2025-02-11 09:05:48 -0000 (Tue, 11 Feb 2025) EndedAt: 2025-02-11 09:06:32 -0000 (Tue, 11 Feb 2025) EllapsedTime: 44.0 seconds RetCode: 0 Status: OK CheckDir: PepSetTest.Rcheck Warnings: 0