Package: PepSetTest Version: 1.0.0 Command: /home/biocbuild/R/R/bin/R CMD INSTALL PepSetTest StartedAt: 2025-02-03 20:31:33 -0000 (Mon, 03 Feb 2025) EndedAt: 2025-02-03 20:31:36 -0000 (Mon, 03 Feb 2025) EllapsedTime: 2.4 seconds RetCode: 0 Status: OK