Package: PhIPData Version: 1.14.0 Command: /Library/Frameworks/R.framework/Resources/bin/R CMD build --keep-empty-dirs --no-resave-data PhIPData StartedAt: 2025-01-31 05:22:32 -0500 (Fri, 31 Jan 2025) EndedAt: 2025-01-31 05:23:24 -0500 (Fri, 31 Jan 2025) EllapsedTime: 51.4 seconds RetCode: 0 Status: OK PackageFile: PhIPData_1.14.0.tar.gz PackageFileSize: 820.8 KiB