Package: PhIPData Version: 1.14.0 Command: /home/biocbuild/R/R/bin/R CMD INSTALL PhIPData StartedAt: 2024-11-19 20:41:30 -0000 (Tue, 19 Nov 2024) EndedAt: 2024-11-19 20:42:08 -0000 (Tue, 19 Nov 2024) EllapsedTime: 38.0 seconds RetCode: 0 Status: OK