Package: PhIPData Version: 1.14.0 Command: rm -rf PhIPData.buildbin-libdir && mkdir PhIPData.buildbin-libdir && /Users/biocbuild/BBS/utils/build-universal.sh PhIPData_1.14.0.tar.gz /Library/Frameworks/R.framework/Resources/bin/R PhIPData.buildbin-libdir StartedAt: 2025-01-31 13:22:45 -0500 (Fri, 31 Jan 2025) EndedAt: 2025-01-31 13:23:46 -0500 (Fri, 31 Jan 2025) EllapsedTime: 60.8 seconds RetCode: 0 Status: OK PackageFile: PhIPData_1.14.0.tgz PackageFileSize: 1.17 MiB