Package: PhIPData Version: 1.14.0 Command: /Library/Frameworks/R.framework/Resources/bin/R CMD build --keep-empty-dirs --no-resave-data PhIPData StartedAt: 2025-01-30 21:50:24 -0500 (Thu, 30 Jan 2025) EndedAt: 2025-01-30 21:52:07 -0500 (Thu, 30 Jan 2025) EllapsedTime: 103.4 seconds RetCode: 0 Status: OK PackageFile: PhIPData_1.14.0.tar.gz PackageFileSize: 820.7 KiB