Package: PhIPData Version: 1.14.0 Command: /Library/Frameworks/R.framework/Resources/bin/R CMD INSTALL PhIPData StartedAt: 2025-01-30 15:27:26 -0500 (Thu, 30 Jan 2025) EndedAt: 2025-01-30 15:28:25 -0500 (Thu, 30 Jan 2025) EllapsedTime: 58.6 seconds RetCode: 0 Status: OK