Package: PhIPData Version: 1.14.0 Command: /home/biocbuild/bbs-3.20-bioc/R/bin/R CMD check --install=check:PhIPData.install-out.txt --library=/home/biocbuild/bbs-3.20-bioc/R/site-library --timings PhIPData_1.14.0.tar.gz StartedAt: 2025-01-31 01:01:59 -0500 (Fri, 31 Jan 2025) EndedAt: 2025-01-31 01:05:36 -0500 (Fri, 31 Jan 2025) EllapsedTime: 216.2 seconds RetCode: 0 Status: OK CheckDir: PhIPData.Rcheck Warnings: 0