Package: PhIPData Version: 1.14.0 Command: chmod a+r PhIPData -R && F:\biocbuild\bbs-3.20-bioc\R\bin\R.exe CMD build --keep-empty-dirs --no-resave-data PhIPData StartedAt: 2025-01-30 20:58:19 -0500 (Thu, 30 Jan 2025) EndedAt: 2025-01-30 20:59:12 -0500 (Thu, 30 Jan 2025) EllapsedTime: 52.7 seconds RetCode: 0 Status: OK PackageFile: PhIPData_1.14.0.tar.gz PackageFileSize: 821 KiB