Package: PhIPData Version: 1.14.0 Command: /home/biocbuild/R/R/bin/R CMD build --keep-empty-dirs --no-resave-data PhIPData StartedAt: 2025-01-31 01:46:33 -0000 (Fri, 31 Jan 2025) EndedAt: 2025-01-31 01:47:26 -0000 (Fri, 31 Jan 2025) EllapsedTime: 52.1 seconds RetCode: 0 Status: OK PackageFile: PhIPData_1.14.0.tar.gz PackageFileSize: 846.4 KiB