Package: PhIPData Version: 1.14.0 Command: /home/biocbuild/bbs-3.20-bioc/R/bin/R CMD build --keep-empty-dirs --no-resave-data PhIPData StartedAt: 2024-11-19 20:50:48 -0500 (Tue, 19 Nov 2024) EndedAt: 2024-11-19 20:51:23 -0500 (Tue, 19 Nov 2024) EllapsedTime: 35.1 seconds RetCode: 0 Status: OK PackageFile: PhIPData_1.14.0.tar.gz PackageFileSize: 820.8 KiB