Package: PharmacoGx Version: 3.10.1 Maintainer: Benjamin Haibe-Kains MaintainerEmail: benjamin.haibe.kains at utoronto.ca git_url: https://git.bioconductor.org/packages/PharmacoGx git_branch: RELEASE_3_20 git_last_commit: ea8c784 git_last_commit_date: 2025-01-07 15:49:35 -0500 (Tue, 07 Jan 2025)