Package: PharmacoGx Version: 3.10.1 Command: /home/biocbuild/bbs-3.20-bioc/R/bin/R CMD INSTALL PharmacoGx StartedAt: 2025-02-10 15:49:49 -0500 (Mon, 10 Feb 2025) EndedAt: 2025-02-10 15:50:30 -0500 (Mon, 10 Feb 2025) EllapsedTime: 40.8 seconds RetCode: 0 Status: OK