Package: PharmacoGx Version: 3.10.1 Command: chmod a+r PharmacoGx -R && F:\biocbuild\bbs-3.20-bioc\R\bin\R.exe CMD build --keep-empty-dirs --no-resave-data PharmacoGx StartedAt: 2025-02-03 21:12:32 -0500 (Mon, 03 Feb 2025) EndedAt: 2025-02-03 21:14:31 -0500 (Mon, 03 Feb 2025) EllapsedTime: 118.5 seconds RetCode: 0 Status: OK PackageFile: PharmacoGx_3.10.1.tar.gz PackageFileSize: 4.421 MiB