Package: PharmacoGx Version: 3.10.1 Command: F:\biocbuild\bbs-3.20-bioc\R\bin\R.exe CMD INSTALL PharmacoGx StartedAt: 2025-02-03 16:38:09 -0500 (Mon, 03 Feb 2025) EndedAt: 2025-02-03 16:40:02 -0500 (Mon, 03 Feb 2025) EllapsedTime: 112.8 seconds RetCode: 0 Status: OK