Package: PharmacoGx Version: 3.10.1 Command: /home/biocbuild/R/R/bin/R CMD build --keep-empty-dirs --no-resave-data PharmacoGx StartedAt: 2025-02-04 01:49:39 -0000 (Tue, 04 Feb 2025) EndedAt: 2025-02-04 01:51:21 -0000 (Tue, 04 Feb 2025) EllapsedTime: 102.1 seconds RetCode: 0 Status: OK PackageFile: PharmacoGx_3.10.1.tar.gz PackageFileSize: 4.496 MiB