Package: PharmacoGx Version: 3.10.1 Command: /home/biocbuild/R/R/bin/R CMD INSTALL PharmacoGx StartedAt: 2025-02-10 20:54:32 -0000 (Mon, 10 Feb 2025) EndedAt: 2025-02-10 20:55:31 -0000 (Mon, 10 Feb 2025) EllapsedTime: 58.1 seconds RetCode: 0 Status: OK