Package: PhenStat Version: 2.42.0 Command: /Library/Frameworks/R.framework/Resources/bin/R CMD build --keep-empty-dirs --no-resave-data PhenStat StartedAt: 2025-02-03 21:16:48 -0500 (Mon, 03 Feb 2025) EndedAt: 2025-02-03 21:18:02 -0500 (Mon, 03 Feb 2025) EllapsedTime: 73.7 seconds RetCode: 0 Status: OK PackageFile: PhenStat_2.42.0.tar.gz PackageFileSize: 681.9 KiB