Package: PhenStat Version: 2.42.0 Command: rm -rf PhenStat.buildbin-libdir && mkdir PhenStat.buildbin-libdir && F:\biocbuild\bbs-3.20-bioc\R\bin\R.exe CMD INSTALL --build --library=PhenStat.buildbin-libdir PhenStat_2.42.0.tar.gz StartedAt: 2025-02-04 09:10:23 -0500 (Tue, 04 Feb 2025) EndedAt: 2025-02-04 09:11:30 -0500 (Tue, 04 Feb 2025) EllapsedTime: 66.8 seconds RetCode: 0 Status: OK PackageFile: PhenStat_2.42.0.zip PackageFileSize: 1.25 MiB