Package: PhenStat Version: 2.42.0 Command: F:\biocbuild\bbs-3.20-bioc\R\bin\R.exe CMD INSTALL PhenStat StartedAt: 2025-02-10 16:40:02 -0500 (Mon, 10 Feb 2025) EndedAt: 2025-02-10 16:41:12 -0500 (Mon, 10 Feb 2025) EllapsedTime: 70.3 seconds RetCode: 0 Status: OK