Package: PhenStat Version: 2.42.0 Command: /home/biocbuild/R/R/bin/R CMD build --keep-empty-dirs --no-resave-data PhenStat StartedAt: 2025-02-04 01:50:51 -0000 (Tue, 04 Feb 2025) EndedAt: 2025-02-04 01:51:24 -0000 (Tue, 04 Feb 2025) EllapsedTime: 33.0 seconds RetCode: 0 Status: OK PackageFile: PhenStat_2.42.0.tar.gz PackageFileSize: 675.3 KiB