Package: PhenStat Version: 2.42.0 Command: /home/biocbuild/R/R/bin/R CMD check --install=check:PhenStat.install-out.txt --library=/home/biocbuild/R/R/site-library --no-vignettes --timings PhenStat_2.42.0.tar.gz StartedAt: 2025-02-11 09:08:45 -0000 (Tue, 11 Feb 2025) EndedAt: 2025-02-11 09:11:00 -0000 (Tue, 11 Feb 2025) EllapsedTime: 134.2 seconds RetCode: 0 Status: OK CheckDir: PhenStat.Rcheck Warnings: 0