Package: PhenStat Version: 2.42.0 Command: /home/biocbuild/R/R/bin/R CMD INSTALL PhenStat StartedAt: 2025-02-03 21:06:44 -0000 (Mon, 03 Feb 2025) EndedAt: 2025-02-03 21:07:06 -0000 (Mon, 03 Feb 2025) EllapsedTime: 21.4 seconds RetCode: 0 Status: OK