Package: PhenoGeneRanker Version: 1.14.0 Command: /home/biocbuild/bbs-3.20-bioc/R/bin/R CMD build --keep-empty-dirs --no-resave-data --md5 PhenoGeneRanker StartedAt: 2025-02-03 18:43:32 -0500 (Mon, 03 Feb 2025) EndedAt: 2025-02-03 18:49:49 -0500 (Mon, 03 Feb 2025) EllapsedTime: 377.5 seconds RetCode: 0 Status: OK PackageFile: PhenoGeneRanker_1.14.0.tar.gz PackageFileSize: 28.67 KiB