Package: PhenoGeneRanker Version: 1.14.0 Command: rm -rf PhenoGeneRanker.buildbin-libdir && mkdir PhenoGeneRanker.buildbin-libdir && F:\biocbuild\bbs-3.20-bioc\R\bin\R.exe CMD INSTALL --build --library=PhenoGeneRanker.buildbin-libdir PhenoGeneRanker_1.14.0.tar.gz StartedAt: 2025-02-04 09:10:08 -0500 (Tue, 04 Feb 2025) EndedAt: 2025-02-04 09:10:50 -0500 (Tue, 04 Feb 2025) EllapsedTime: 41.1 seconds RetCode: 0 Status: OK PackageFile: PhenoGeneRanker_1.14.0.zip PackageFileSize: 86.21 KiB