Package: PhyloProfile Version: 1.20.4 Command: rm -rf PhyloProfile.buildbin-libdir && mkdir PhyloProfile.buildbin-libdir && /Users/biocbuild/BBS/utils/build-universal.sh PhyloProfile_1.20.4.tar.gz /Library/Frameworks/R.framework/Resources/bin/R PhyloProfile.buildbin-libdir StartedAt: 2025-02-05 17:07:32 -0500 (Wed, 05 Feb 2025) EndedAt: 2025-02-05 17:08:04 -0500 (Wed, 05 Feb 2025) EllapsedTime: 31.7 seconds RetCode: 0 Status: OK PackageFile: PhyloProfile_1.20.4.tgz PackageFileSize: 1.494 MiB