Package: PhyloProfile Version: 1.20.4 Command: /Library/Frameworks/R.framework/Resources/bin/R CMD build --keep-empty-dirs --no-resave-data PhyloProfile StartedAt: 2025-02-04 05:31:39 -0500 (Tue, 04 Feb 2025) EndedAt: 2025-02-04 05:32:29 -0500 (Tue, 04 Feb 2025) EllapsedTime: 50.2 seconds RetCode: 0 Status: OK PackageFile: PhyloProfile_1.20.4.tar.gz PackageFileSize: 1.417 MiB