Package: PhyloProfile Version: 1.20.4 Command: rm -rf PhyloProfile.buildbin-libdir && mkdir PhyloProfile.buildbin-libdir && /Users/biocbuild/BBS/utils/build-universal.sh PhyloProfile_1.20.4.tar.gz /Library/Frameworks/R.framework/Resources/bin/R PhyloProfile.buildbin-libdir StartedAt: 2025-02-04 13:46:59 -0500 (Tue, 04 Feb 2025) EndedAt: 2025-02-04 13:48:42 -0500 (Tue, 04 Feb 2025) EllapsedTime: 103.4 seconds RetCode: 0 Status: OK PackageFile: PhyloProfile_1.20.4.tgz PackageFileSize: 1.493 MiB