Package: PhyloProfile Version: 1.20.4 Command: /home/biocbuild/R/R/bin/R CMD build --keep-empty-dirs --no-resave-data PhyloProfile StartedAt: 2025-02-11 01:33:02 -0000 (Tue, 11 Feb 2025) EndedAt: 2025-02-11 01:33:56 -0000 (Tue, 11 Feb 2025) EllapsedTime: 54.0 seconds RetCode: 0 Status: OK PackageFile: PhyloProfile_1.20.4.tar.gz PackageFileSize: 1.268 MiB