Package: PhyloProfile Version: 1.20.4 Command: /home/biocbuild/R/R/bin/R CMD check --install=check:PhyloProfile.install-out.txt --library=/home/biocbuild/R/R/site-library --no-vignettes --timings PhyloProfile_1.20.4.tar.gz StartedAt: 2025-02-11 09:09:51 -0000 (Tue, 11 Feb 2025) EndedAt: 2025-02-11 09:13:34 -0000 (Tue, 11 Feb 2025) EllapsedTime: 222.3 seconds RetCode: 0 Status: OK CheckDir: PhyloProfile.Rcheck Warnings: 0