Package: PhyloProfile Version: 1.20.4 Command: /home/biocbuild/R/R/bin/R CMD INSTALL PhyloProfile StartedAt: 2025-02-10 20:45:03 -0000 (Mon, 10 Feb 2025) EndedAt: 2025-02-10 20:45:34 -0000 (Mon, 10 Feb 2025) EllapsedTime: 31.3 seconds RetCode: 0 Status: OK