Package: Pi Version: 2.18.0 Command: /Library/Frameworks/R.framework/Resources/bin/R CMD INSTALL Pi StartedAt: 2025-02-03 18:23:00 -0500 (Mon, 03 Feb 2025) EndedAt: 2025-02-03 18:23:00 -0500 (Mon, 03 Feb 2025) EllapsedTime: 0.4 seconds RetCode: 1 Status: ERROR