Package: Pi Version: 2.18.0 Command: F:\biocbuild\bbs-3.20-bioc\R\bin\R.exe CMD INSTALL Pi StartedAt: 2025-02-03 17:22:37 -0500 (Mon, 03 Feb 2025) EndedAt: 2025-02-03 17:22:37 -0500 (Mon, 03 Feb 2025) EllapsedTime: 0.5 seconds RetCode: 1 Status: ERROR