Package: Pi Version: 2.18.0 Command: /home/biocbuild/R/R/bin/R CMD INSTALL Pi StartedAt: 2025-02-10 21:14:48 -0000 (Mon, 10 Feb 2025) EndedAt: 2025-02-10 21:14:48 -0000 (Mon, 10 Feb 2025) EllapsedTime: 0.3 seconds RetCode: 1 Status: ERROR